BEGIN:VCALENDAR
VERSION:2.0
PRODID:-//Washington State Hospital Association - ECPv6.15.15//NONSGML v1.0//EN
CALSCALE:GREGORIAN
METHOD:PUBLISH
X-WR-CALNAME:Washington State Hospital Association
X-ORIGINAL-URL:https://members.wsha.org
X-WR-CALDESC:Events for Washington State Hospital Association
REFRESH-INTERVAL;VALUE=DURATION:PT1H
X-Robots-Tag:noindex
X-PUBLISHED-TTL:PT1H
BEGIN:VTIMEZONE
TZID:America/Vancouver
BEGIN:DAYLIGHT
TZOFFSETFROM:-0800
TZOFFSETTO:-0700
TZNAME:PDT
DTSTART:20250309T100000
END:DAYLIGHT
BEGIN:STANDARD
TZOFFSETFROM:-0700
TZOFFSETTO:-0800
TZNAME:PST
DTSTART:20251102T090000
END:STANDARD
BEGIN:DAYLIGHT
TZOFFSETFROM:-0800
TZOFFSETTO:-0700
TZNAME:PDT
DTSTART:20260308T100000
END:DAYLIGHT
BEGIN:STANDARD
TZOFFSETFROM:-0700
TZOFFSETTO:-0800
TZNAME:PST
DTSTART:20261101T090000
END:STANDARD
BEGIN:DAYLIGHT
TZOFFSETFROM:-0800
TZOFFSETTO:-0700
TZNAME:PDT
DTSTART:20270314T100000
END:DAYLIGHT
BEGIN:STANDARD
TZOFFSETFROM:-0700
TZOFFSETTO:-0800
TZNAME:PST
DTSTART:20271107T090000
END:STANDARD
END:VTIMEZONE
BEGIN:VEVENT
DTSTART;TZID=America/Vancouver:20260212T120000
DTEND;TZID=America/Vancouver:20260212T130000
DTSTAMP:20260420T004559
CREATED:20260115T164514Z
LAST-MODIFIED:20260115T164514Z
UID:10001905-1770897600-1770901200@members.wsha.org
SUMMARY:SDR Monthly Webinar
DESCRIPTION:Once registered\, you will be registered for the entire 2026 monthly series. \nYou will receive a calendar invite from the WSHA calendar (no need to download directly from the registration- the calendar hold directly from the website will not update if there are any changes) \n  \nPlease reach out to leighs@wsha.org for any registration questions!
URL:https://members.wsha.org/events/sdr-monthly-webinar-2/
LOCATION:Zoom
CATEGORIES:Virtual
END:VEVENT
BEGIN:VEVENT
DTSTART;TZID=America/Vancouver:20260227T100000
DTEND;TZID=America/Vancouver:20260227T110000
DTSTAMP:20260420T004559
CREATED:20260115T164450Z
LAST-MODIFIED:20260115T164450Z
UID:10001897-1772186400-1772190000@members.wsha.org
SUMMARY:Naloxone Saturation Sprint Technical Assistance Session
DESCRIPTION:The Naloxone Saturation Sprint is a 5-month initiative designed to help obstetric departments implement naloxone in-hand distribution. Hospitals that agree to participate will receive:   \n\nFree naloxone kits  \nMedication lock bags \nImplementation materials \nMonthly technical assistance calls\n1:1 coaching as needed\nData collection resources \nSupport in gaining hospital leadership alignment \n\nWe are seeking obstetric department participants that are interested in implementing harm reduction strategies\, have emerging or established support for this work and can commit to collecting simple data about implementation.  \nTimeframe of the Sprint: February – June\, 2026 
URL:https://members.wsha.org/events/naloxone-saturation-sprint-technical-assistance-session/
LOCATION:Zoom
CATEGORIES:Virtual
END:VEVENT
END:VCALENDAR