BEGIN:VCALENDAR
VERSION:2.0
PRODID:-//Washington State Hospital Association - ECPv6.15.20//NONSGML v1.0//EN
CALSCALE:GREGORIAN
METHOD:PUBLISH
X-ORIGINAL-URL:https://members.wsha.org
X-WR-CALDESC:Events for Washington State Hospital Association
REFRESH-INTERVAL;VALUE=DURATION:PT1H
X-Robots-Tag:noindex
X-PUBLISHED-TTL:PT1H
BEGIN:VTIMEZONE
TZID:America/Vancouver
BEGIN:DAYLIGHT
TZOFFSETFROM:-0800
TZOFFSETTO:-0700
TZNAME:PDT
DTSTART:20250309T100000
END:DAYLIGHT
BEGIN:STANDARD
TZOFFSETFROM:-0700
TZOFFSETTO:-0800
TZNAME:PST
DTSTART:20251102T090000
END:STANDARD
BEGIN:DAYLIGHT
TZOFFSETFROM:-0800
TZOFFSETTO:-0700
TZNAME:PDT
DTSTART:20260308T100000
END:DAYLIGHT
BEGIN:STANDARD
TZOFFSETFROM:-0700
TZOFFSETTO:-0800
TZNAME:PST
DTSTART:20261101T090000
END:STANDARD
BEGIN:DAYLIGHT
TZOFFSETFROM:-0800
TZOFFSETTO:-0700
TZNAME:PDT
DTSTART:20270314T100000
END:DAYLIGHT
BEGIN:STANDARD
TZOFFSETFROM:-0700
TZOFFSETTO:-0800
TZNAME:PST
DTSTART:20271107T090000
END:STANDARD
END:VTIMEZONE
BEGIN:VEVENT
DTSTART;TZID=America/Vancouver:20260612T100000
DTEND;TZID=America/Vancouver:20260612T140000
DTSTAMP:20260421T114607
CREATED:20260416T223439Z
LAST-MODIFIED:20260416T223439Z
UID:10002056-1781258400-1781272800@members.wsha.org
SUMMARY:Rural Quality Roundtable - Olympic Medical Center
DESCRIPTION:Topic: Complex Discharge \n10:00am – 2:00pm\nAgenda to include: lunch\, hospital tour\, QI topic \nRegister here\n \nWhile rural hospitals are the primary audience\, urban hospitals in the region are welcome to attend. WSHA member hospitals only
URL:https://members.wsha.org/events/rural-quality-roundtable-olympic-medical-center/
CATEGORIES:In-Person
ORGANIZER;CN="Megan Herman":MAILTO:meganh@wsha.org
END:VEVENT
END:VCALENDAR