BEGIN:VCALENDAR
VERSION:2.0
PRODID:-//Washington State Hospital Association - ECPv6.15.20//NONSGML v1.0//EN
CALSCALE:GREGORIAN
METHOD:PUBLISH
X-WR-CALNAME:Washington State Hospital Association
X-ORIGINAL-URL:https://members.wsha.org
X-WR-CALDESC:Events for Washington State Hospital Association
REFRESH-INTERVAL;VALUE=DURATION:PT1H
X-Robots-Tag:noindex
X-PUBLISHED-TTL:PT1H
BEGIN:VTIMEZONE
TZID:America/Vancouver
BEGIN:DAYLIGHT
TZOFFSETFROM:-0800
TZOFFSETTO:-0700
TZNAME:PDT
DTSTART:20250309T100000
END:DAYLIGHT
BEGIN:STANDARD
TZOFFSETFROM:-0700
TZOFFSETTO:-0800
TZNAME:PST
DTSTART:20251102T090000
END:STANDARD
BEGIN:DAYLIGHT
TZOFFSETFROM:-0800
TZOFFSETTO:-0700
TZNAME:PDT
DTSTART:20260308T100000
END:DAYLIGHT
BEGIN:STANDARD
TZOFFSETFROM:-0700
TZOFFSETTO:-0800
TZNAME:PST
DTSTART:20261101T090000
END:STANDARD
BEGIN:DAYLIGHT
TZOFFSETFROM:-0800
TZOFFSETTO:-0700
TZNAME:PDT
DTSTART:20270314T100000
END:DAYLIGHT
BEGIN:STANDARD
TZOFFSETFROM:-0700
TZOFFSETTO:-0800
TZNAME:PST
DTSTART:20271107T090000
END:STANDARD
END:VTIMEZONE
BEGIN:VEVENT
DTSTART;VALUE=DATE:20260422
DTEND;VALUE=DATE:20260425
DTSTAMP:20260420T125000
CREATED:20260223T215807Z
LAST-MODIFIED:20260326T213810Z
UID:10001915-1776816000-1777075199@members.wsha.org
SUMMARY:2026 Rural CFO Retreat
DESCRIPTION:Register NOW! \nDate: Wednesday\, April 22 – Friday\, April 24 \nLocation: The Residence Inn | Wenatchee\, WA \nAudience: CFOs of Rural Hospitals and Facilities \nAttire: Casual \nAgenda*\n*Schedule subject to change \nWednesday\, April 22\n2:00 – 3:30 PM: Rural Health Transformation Fund Program \n3:30 – 4:30 PM: An Update on the Latest Accounting Trends \n5:30 – 8:00 PM: Welcome Reception & Dinner\nLocation: The Residence Inn (1229 Walla Walla Ave\, Wenatchee\, WA 98801) \nThursday\, April 23\n8:00 – 9:00 AM: Breakfast\nLocation: The Residence Inn (1229 Walla Walla Ave\, Wenatchee\, WA 98801) \n9:00 – 10:00 AM: Welcome\n \n10:00 – 10:45 AM: State Legislative Update \n11:00 AM – 12:00 PM Cybersecurity & Fraud\nA discussion with the leaders at JP Morgan on cybersecurity and fraud case studies and emerging best practices. \n12:00 PM: Lunch\nLocation: The Residence Inn \n1:15 PM: Vitality Payer Scorecard \n3:00 PM: Rural Hospitals and Denials Management\nA discussion of trends in medical denials and strategies and technology that can help your facilities\n \n3:30 PM: Adjourn  \n6:00 – 9:00 PM: Bowling \nLocation: Eastmont Lanes (704 Grant Rd\, East Wenatchee\, WA 98802) \nFriday\, April 24\n8:00 – 9:00 AM: Breakfast\nLocation: The Residence Inn \n9:00 – 10:30 AM: SNAP\n \n10:45 – 11:30 AM: DASH Premium Update \n11:30 AM: Lunch \n12:30 PM: Update from the State Department of Health \n1:00 PM: TBA \n2:30 PM: Adjourn \nLodging \nWe have passed the booking window to book within our room block. To inquire about lodging availability outside of our room block please visit the hotel website or call the number below. \nThe Residence Inn\n1229 Walla Walla Ave\, Wenatchee\, WA 98801 \nResidence Inn Wenatchee  \nTo book via phone please call (509) 470-3091 \n\n\n\n\nQuestions about the event\, lodging or sponsorship? Please reach out to Lydia Deatherage at lydiad@wsha.org \n\n \nThank You\, Sponsors!
URL:https://members.wsha.org/events/2026-rural-cfo-retreat/
CATEGORIES:In-Person
END:VEVENT
BEGIN:VEVENT
DTSTART;TZID=America/Vancouver:20260424T083000
DTEND;TZID=America/Vancouver:20260424T150000
DTSTAMP:20260420T125000
CREATED:20260326T210228Z
LAST-MODIFIED:20260326T210840Z
UID:10001995-1777019400-1777042800@members.wsha.org
SUMMARY:External Webinar: Two Depressants\, One Conversation: Addressing Alcohol Use among People with Opioid Use Disorder (Seattle)
DESCRIPTION:This external webinar is hosted by University of Washington Addictions\, Drug & Alcohol Institute. \nThis in-person training in Seattle will focus on practical\, evidence‑based approaches to alcohol withdrawal\, treatment\, and safer use. Participants will learn from clinical experts with experience from a variety of care settings and will explore medications\, therapy approaches\, and shared decision-making strategies. \nThis interactive training is designed to support real‑world implementation and cross‑system collaboration throughout Washington. \nKey Topics:\n\nAddressing acute alcohol withdrawal\nTreating alcohol use disorder in outpatient settings\nSafer use strategies for alcohol use\n\nWho should attend: The intended audience for this series is for anyone in Washington State involved in the care of people who use drugs and people living with substance use disorder (SUD). All disciplines are welcome and encouraged to join. \nQuestions? \nEmail: moscdal@uw.edu  \n\nClick Here to Register Here \nLearn More About Training in Eastern Washington 
URL:https://members.wsha.org/events/external-webinar-two-depressants-one-conversation-addressing-alcohol-use-among-people-with-opioid-use-disorder-seattle/
LOCATION:UW Center for Urban Horticulture\, 3501 NE 41st St\, Seattle\, WA\, 98105\, United States
CATEGORIES:In-Person
END:VEVENT
BEGIN:VEVENT
DTSTART;TZID=America/Vancouver:20260424T100000
DTEND;TZID=America/Vancouver:20260424T110000
DTSTAMP:20260420T125000
CREATED:20260115T164454Z
LAST-MODIFIED:20260115T164454Z
UID:10001899-1777024800-1777028400@members.wsha.org
SUMMARY:Naloxone Saturation Sprint Technical Assistance Session
DESCRIPTION:The Naloxone Saturation Sprint is a 5-month initiative designed to help obstetric departments implement naloxone in-hand distribution. Hospitals that agree to participate will receive:   \n\nFree naloxone kits  \nMedication lock bags \nImplementation materials \nMonthly technical assistance calls\n1:1 coaching as needed\nData collection resources \nSupport in gaining hospital leadership alignment \n\nWe are seeking obstetric department participants that are interested in implementing harm reduction strategies\, have emerging or established support for this work and can commit to collecting simple data about implementation.  \nTimeframe of the Sprint: February – June\, 2026 
URL:https://members.wsha.org/events/naloxone-saturation-sprint-technical-assistance-session-3/
LOCATION:Zoom
CATEGORIES:Virtual
END:VEVENT
BEGIN:VEVENT
DTSTART;TZID=America/Vancouver:20260424T120000
DTEND;TZID=America/Vancouver:20260424T130000
DTSTAMP:20260420T125000
CREATED:20260326T204655Z
LAST-MODIFIED:20260326T211058Z
UID:10001944-1777032000-1777035600@members.wsha.org
SUMMARY:External Webinar: Incorporating Lived/Living Experience into SUD Clinical Design
DESCRIPTION:This external webinar is hosted by University of Washington Addictions\, Drug & Alcohol Institute. \nJoin our three-part series showcasing how incorporating lived and living experience can transform substance use disorder (SUD) clinical design. Hear from facilitators\, healthcare professionals\, and community members who shape community advisory boards (CABs) and lived experience advisory boards (LEABs).\nTopics:\n\nMarch 27th – LEAB Facilitators: From Creation to Clinic Opening\nApril 3rd – Panel Discussion: CABs in Different Settings\nApril 10th – Panel Discussion: LEAB/CAB Member Perspectives\n\nSpeakers & Panelists:\n\nLeiLani Dawn\, MA-P\, CPSS\nMandy Sladky\, MSN\, RN\nTeresa Winstead\, PhD\, MA\nMandy Owens\, PhD\nTessa Frohe\, PhD\nDavid Almeida\, Program Coordinator\nMarlene Gallichan\, Peer Support Specialist\nOmeid Heidari\, PhD\, MPH\, ANP-C\nLEAB/CAB members from DESC ORCA Center\, Hobson SHIP Program\, CLEARS Project\, READU\, HaRRT Center\, and SAIA\n\nWho should attend: The intended audience for this series is for anyone in Washington State involved in the care of people who use drugs and people living with substance use disorder (SUD). All disciplines are welcome and encouraged to join. This webinar is funded by the State Opioid Response (SOR) grant from the Substance Abuse and Mental Health Services Administration (SAMHSA)\, and is provided by the University of Washington’s Addictions\, \nClick Here to Register Here
URL:https://members.wsha.org/events/external-webinar-psychedelics-for-opioid-use-disorder-2/2026-04-24/
CATEGORIES:Virtual
END:VEVENT
END:VCALENDAR