BEGIN:VCALENDAR
VERSION:2.0
PRODID:-//Washington State Hospital Association - ECPv6.15.20//NONSGML v1.0//EN
CALSCALE:GREGORIAN
METHOD:PUBLISH
X-ORIGINAL-URL:https://members.wsha.org
X-WR-CALDESC:Events for Washington State Hospital Association
REFRESH-INTERVAL;VALUE=DURATION:PT1H
X-Robots-Tag:noindex
X-PUBLISHED-TTL:PT1H
BEGIN:VTIMEZONE
TZID:America/Vancouver
BEGIN:DAYLIGHT
TZOFFSETFROM:-0800
TZOFFSETTO:-0700
TZNAME:PDT
DTSTART:20250309T100000
END:DAYLIGHT
BEGIN:STANDARD
TZOFFSETFROM:-0700
TZOFFSETTO:-0800
TZNAME:PST
DTSTART:20251102T090000
END:STANDARD
BEGIN:DAYLIGHT
TZOFFSETFROM:-0800
TZOFFSETTO:-0700
TZNAME:PDT
DTSTART:20260308T100000
END:DAYLIGHT
BEGIN:STANDARD
TZOFFSETFROM:-0700
TZOFFSETTO:-0800
TZNAME:PST
DTSTART:20261101T090000
END:STANDARD
BEGIN:DAYLIGHT
TZOFFSETFROM:-0800
TZOFFSETTO:-0700
TZNAME:PDT
DTSTART:20270314T100000
END:DAYLIGHT
BEGIN:STANDARD
TZOFFSETFROM:-0700
TZOFFSETTO:-0800
TZNAME:PST
DTSTART:20271107T090000
END:STANDARD
END:VTIMEZONE
BEGIN:VEVENT
DTSTART;VALUE=DATE:20260422
DTEND;VALUE=DATE:20260425
DTSTAMP:20260420T102649
CREATED:20260223T215807Z
LAST-MODIFIED:20260326T213810Z
UID:10001915-1776816000-1777075199@members.wsha.org
SUMMARY:2026 Rural CFO Retreat
DESCRIPTION:Register NOW! \nDate: Wednesday\, April 22 – Friday\, April 24 \nLocation: The Residence Inn | Wenatchee\, WA \nAudience: CFOs of Rural Hospitals and Facilities \nAttire: Casual \nAgenda*\n*Schedule subject to change \nWednesday\, April 22\n2:00 – 3:30 PM: Rural Health Transformation Fund Program \n3:30 – 4:30 PM: An Update on the Latest Accounting Trends \n5:30 – 8:00 PM: Welcome Reception & Dinner\nLocation: The Residence Inn (1229 Walla Walla Ave\, Wenatchee\, WA 98801) \nThursday\, April 23\n8:00 – 9:00 AM: Breakfast\nLocation: The Residence Inn (1229 Walla Walla Ave\, Wenatchee\, WA 98801) \n9:00 – 10:00 AM: Welcome\n \n10:00 – 10:45 AM: State Legislative Update \n11:00 AM – 12:00 PM Cybersecurity & Fraud\nA discussion with the leaders at JP Morgan on cybersecurity and fraud case studies and emerging best practices. \n12:00 PM: Lunch\nLocation: The Residence Inn \n1:15 PM: Vitality Payer Scorecard \n3:00 PM: Rural Hospitals and Denials Management\nA discussion of trends in medical denials and strategies and technology that can help your facilities\n \n3:30 PM: Adjourn  \n6:00 – 9:00 PM: Bowling \nLocation: Eastmont Lanes (704 Grant Rd\, East Wenatchee\, WA 98802) \nFriday\, April 24\n8:00 – 9:00 AM: Breakfast\nLocation: The Residence Inn \n9:00 – 10:30 AM: SNAP\n \n10:45 – 11:30 AM: DASH Premium Update \n11:30 AM: Lunch \n12:30 PM: Update from the State Department of Health \n1:00 PM: TBA \n2:30 PM: Adjourn \nLodging \nWe have passed the booking window to book within our room block. To inquire about lodging availability outside of our room block please visit the hotel website or call the number below. \nThe Residence Inn\n1229 Walla Walla Ave\, Wenatchee\, WA 98801 \nResidence Inn Wenatchee  \nTo book via phone please call (509) 470-3091 \n\n\n\n\nQuestions about the event\, lodging or sponsorship? Please reach out to Lydia Deatherage at lydiad@wsha.org \n\n \nThank You\, Sponsors!
URL:https://members.wsha.org/events/2026-rural-cfo-retreat/
CATEGORIES:In-Person
END:VEVENT
END:VCALENDAR